BEGIN:VCALENDAR
VERSION:2.0
PRODID:-//Sup Here - ECPv4.1.2//NONSGML v1.0//EN
CALSCALE:GREGORIAN
METHOD:PUBLISH
X-WR-CALNAME:Sup Here
X-ORIGINAL-URL:http://www.sup-here.co.il
X-WR-CALDESC:Events for Sup Here
BEGIN:VEVENT
DTSTART;TZID=UTC-2:20160325T090000
DTEND;TZID=UTC-2:20160325T150000
DTSTAMP:20260425T153418
CREATED:20160313T124056
LAST-MODIFIED:20160317T043712
UID:933-1458896400-1458918000@www.sup-here.co.il
SUMMARY:גולשים מחופשים בנהר הירדן
DESCRIPTION:סרף האוס ולקוחותיה מזמינים אתכם לצאת למסע גלישה מיוחד במינו. השילוב של גלישת סאפ לבין עוצמת נהר הירדן מספקים חוויה בלתי נשכחת לכל המשתתפים. תוסיפו תחפושות ורעשנים וקיבלתם יום בלתי נשכח של צחוק וריגושים!\n\nרוצים להביא את כל המשפחה ולא בא להם לחתור בנהר? יש לנו גם פעילויות בשבילם...\n\nתוכנית אירוע:\nכיבוד קל\, קפה ותה לאורך כל היום\nארוחת צהריים מפנקת\, BBQ לכל המשפחה\nפעילויות שונות לילדים ולמשפחה לאורך כל היום - ג'ימבורי לפעוטות\, מתחמי סלק-ליין (הליכה על חבל) \, תחנות אינדו בורד (שיווי משקל)\nו...\nקיר טיפוס\, רכיבת אופניים\, טיולי ריינג'רים ועוד (אופציונליות תוספת תשלום)\nוכמובן\, חתירת סאפ בנהר כפי יכולתך (מסלולי מתקדמים/מתחילים)\n\nלו"ז פעילות: \n\n9:00 מפגש משתתפים וכיבוד קל\n10:30 תדריך למשתתפים\n10:45 ירידה 1 בנהר - מסלול מתחילים + מתקדמים\n12:45 הפעלה משפחתית סדנאת בניית רפסודות וירידה בנהר\n12:45 ירידה 2 בנהר בתחפושות בלבד!! + מסיבה ימית פורימית בשילוב קוקטיילים ואלכוהול מפנק\n\n14:00-15:30 ארוחת צהריים BBQ לכל המשפחה ופיזור\nמחירון למשפחה:\nמבוגר - 250 ש"ח\nזוג - 450 ש"ח\nילד עד גיל 13 / מבוגר שלא חותר - 150 ש"ח\nילדים ופעוטות עד גיל 7 (כולל א. ילדים) - 50 ש"ח\nלהרשמה חייגו 09-9574522 או מלאו פרטים\n\nhttp://www.surfhouse.co.il/Happy-Holiday-River-Sup-Jordan/\n\n \n\n[embed]https://www.youtube.com/watch?v=r72fxIbJOiw[/embed]\n\n 
URL:http://www.sup-here.co.il/event/%d7%92%d7%95%d7%9c%d7%a9%d7%99%d7%9d-%d7%9e%d7%97%d7%95%d7%a4%d7%a9%d7%99%d7%9d-%d7%91%d7%a0%d7%94%d7%a8-%d7%94%d7%99%d7%a8%d7%93%d7%9f/
CATEGORIES:Sup Paddle
END:VEVENT
BEGIN:VEVENT
DTSTART;TZID=Asia/Jerusalem:20160325T110000
DTEND;TZID=Asia/Jerusalem:20160325T170000
DTSTAMP:20260425T153418
CREATED:20160321T134808
LAST-MODIFIED:20160321T135006
UID:1027-1458903600-1458925200@www.sup-here.co.il
SUMMARY:אירוע פורים בחוף הקשתות
DESCRIPTION:פורום ים אשדוד. \nהם חבורה של תושבים שמאוד אוהבים את הים ויעשו כמעט הכל כדי להנגיש את הים לכלל התושבים .\n\nאז מה בתכנית? הפנינג גדול שיתקיים ביום שישי 25/3/16 בשעה 11:00 בחוף הקשתות באשדוד.\n\nבין הפעילויות הבולטות תוכלו למצוא: סאפ מתנפח\, תחרויות מים\, עפיפוניאדה\, תחרופ תחפושות\, איפור גוף (רבקה בוזגלו) וכיבוד קל\, הכניסה וההשתתפות בחינם וכל הארגון נעשה ע״י מתנדבים שכל סיפוקם יהיה להנגיש את הים לתושבי אשדוד. שווה לכפם להגיע רק למען המטרה החשובה הזאת. \n\n\n
URL:http://www.sup-here.co.il/event/%d7%90%d7%99%d7%a8%d7%95%d7%a2-%d7%a4%d7%95%d7%a8%d7%99%d7%9d-%d7%91%d7%97%d7%95%d7%a3-%d7%94%d7%a7%d7%a9%d7%aa%d7%95%d7%aa/
LOCATION:אשדוד 
GEO:31.804381;34.655314
CATEGORIES:Sup Paddle
END:VEVENT
END:VCALENDAR