BEGIN:VCALENDAR
VERSION:2.0
PRODID:-//Sup Here - ECPv4.1.2//NONSGML v1.0//EN
CALSCALE:GREGORIAN
METHOD:PUBLISH
X-WR-CALNAME:Sup Here
X-ORIGINAL-URL:http://www.sup-here.co.il
X-WR-CALDESC:Events for Sup Here
BEGIN:VEVENT
DTSTART;VALUE=DATE:20160419
DTEND;VALUE=DATE:20160423
DTSTAMP:20260425T140410
CREATED:20160419
LAST-MODIFIED:20160420
UID:1242-1461024000-1461455999@www.sup-here.co.il
SUMMARY:חוצים את ישראל עם סאפ
DESCRIPTION:בתאריכים ה19-23 לאפריל עומד aner gilboa\n\nלחתור על סאפ את כל הארץ ברצף\, מראש הנקרה עד אשקלון כל יום 35 קילומטר.\n\nענר ישמח שאנשים יצטרפו אליו לחתירה.\n\nתוכלו לעקוב אחריו ולקבל עדכונים בנוגע לאיפה הוא נמצא ואיפה אפשר להצטרף אליו בדף שלו\n\nhttps://www.facebook.com/groups/1027921347298888/?fref=nf\n\n \n\n 
URL:http://www.sup-here.co.il/event/%d7%97%d7%95%d7%a6%d7%99%d7%9d-%d7%90%d7%aa-%d7%99%d7%a9%d7%a8%d7%90%d7%9c-%d7%a2%d7%9d-%d7%a1%d7%90%d7%a4/
ATTACH;FMTTYPE=image/jpeg:http://www.sup-here.co.il/wp-content/uploads/2016/04/12931165_1318912491459093_615120333169437041_n.jpg
END:VEVENT
END:VCALENDAR